BEGIN:VCALENDAR
VERSION:2.0
PRODID:-//eventon.com NONSGML v1.0//EN
CALSCALE:GREGORIAN
METHOD:PUBLISH
BEGIN:VEVENT
UID:69e7a1bf73f12
DTSTAMP:20260421T161143Z
DTSTART:20240916T193000Z
DTEND:20240917T030000Z
LOCATION:
SUMMARY:Monday Hangover Cure!
DESCRIPTION:Join us every Monday at Bar Rumba and blow away the cobwebs wit
 h Hangover Cure. With Happy Hour from 7:30pm until 10:30pm\,  our resident 
 DJs playing all the best in House\,  RnB and party hits and the iconic Bar 
 Rumba party atmosphere! Join us and extend your weekend vibes!\nhttps://rum
 balondon.com/events/monday-hangover-cure/
URL:https://rumbalondon.com/events/monday-hangover-cure/
END:VEVENT
END:VCALENDAR